BEGIN:VCALENDAR
VERSION:2.0
PRODID:-//hacksw/handcal//NONSGML v1.0//EN
BEGIN:VEVENT
SUMMARY:Kid Athle et Pouss'Athlon
UID:696e2e4d-20e5-432f-b8d5-50c485384082
DTSTART:20260425T110000Z
DTEND:20260425T153000Z
LOCATION:Stade 16 Rue Wenceslas Coutellier 60600 Clermont France 60600 clermont
CATEGORIES:Sportif
STATUS:
DESCRIPTION:<p>1ere rencontre Eveil Athletique et 1er Pouss'Athlon du
 printemps au stade de Clermont.</p>
 
 <ul>
 	<li>au programme des EA ,
 4 ateliers en equipe</li>
 	<li>au programme des PO , 6 epreuves
 individuelles.</li>
 </ul>
 
 <p> </p>
 
 <p> </p>
URL;VALUE=URI:https://www.athletic-club-clermontois.fr/evenements/2026/04/25/kid-athle-et-poussathlon-2443617
END:VEVENT
END:VCALENDAR
